BEGIN:VCALENDAR
VERSION:2.0
PRODID:-//Strogoff - ECPv6.13.2.1//NONSGML v1.0//EN
CALSCALE:GREGORIAN
METHOD:PUBLISH
X-ORIGINAL-URL:https://strogoff.cat
X-WR-CALDESC:Esdeveniments per Strogoff
REFRESH-INTERVAL;VALUE=DURATION:PT1H
X-Robots-Tag:noindex
X-PUBLISHED-TTL:PT1H
BEGIN:VTIMEZONE
TZID:UTC
BEGIN:STANDARD
TZOFFSETFROM:+0000
TZOFFSETTO:+0000
TZNAME:UTC
DTSTART:20240101T000000
END:STANDARD
END:VTIMEZONE
BEGIN:VEVENT
DTSTART;TZID=UTC:20240912T193000
DTEND;TZID=UTC:20240912T203000
DTSTAMP:20260420T083342
CREATED:20240729T101336Z
LAST-MODIFIED:20240930T091136Z
UID:648-1726169400-1726173000@strogoff.cat
SUMMARY:Presentació SHUM amb el dibuixant Jaume Capdevila "KAP" en conversa amb Lluís Solà
DESCRIPTION:Shum\nEl dibuixant de les mans trencades\n\nEn Jaume Capdevila\, en Kap\, milita en l’humor gràfic des de dues trinxeres: una és la de l’estudi i la vetlla per la conservació del patrimoni a través de la divulgació en publicacions\, conferències i exposicions; l’altra és la del ninotaire que se serveix dels dibuixos per expressar les seues opinions. En aquest llibre ens presenta una biografia d’Alfons Vila i Franquesa\, Shum\, dibuixant satíric del temps de la República i també sindicalista\, anarquista\, víctima accidental d’una explosió\, cap de turc\, pres polític i\, finalment\, artista a l’exili. Tot el talent d’en Kap\, doncs\, s’uneix al d’en Jaume Capdevila per bastir una autèntica novel·la (gràfica). Una obra que és també un assaig documentadíssim\, estructurat amb precisió\, que reivindica un concepte que no hauria de passar mai de moda: l’artista implicat i crític amb la seva època. I ho fa\, com ha de ser\, des del compromís més sincer. Manel Fontdevila \nUna novel·la gràfica biogràfica però també de recuperació de memòria històrica. 
URL:https://strogoff.cat/esdeveniment/presentacio-shum-amb-el-dibuixant-jaume-capdevila-kap-en-conversa-amb-lluis-sola/
LOCATION:Llibreria Strogoff\, C/ Can Xic Corder\, 2\, la Garriga\, Barcelona\, 08530
CATEGORIES:Presentacions
ATTACH;FMTTYPE=image/jpeg:https://strogoff.cat/wp-content/uploads/2024/07/9788413035215_2.jpg
ORGANIZER;CN="Llibreria Strogoff":MAILTO:jordi@strogoff.cat
END:VEVENT
BEGIN:VEVENT
DTSTART;TZID=UTC:20240913T200000
DTEND;TZID=UTC:20240913T210000
DTSTAMP:20260420T083342
CREATED:20240729T102505Z
LAST-MODIFIED:20240930T091112Z
UID:652-1726257600-1726261200@strogoff.cat
SUMMARY:Sangarra amb PROJECTE ASTROLABI
DESCRIPTION:PROJECTE ASTROLABI \nAmb una llarga trajectòria com a guitarrista a moltes bandes en Guillem Plana fa un pas endevant amb “Projecte Astrolabi”\, un recull de cançons instrumentals de collita pròpia que tenen l’Univers com a fil conductor. \nGuillem Plana: composició i guitarra \nArnau Altimir: bateria i mescles \nEloi Escudé: Teclats \nIsaac Coll: baix \nEntrada: 10 € \nEntrada anticipada: 8 €
URL:https://strogoff.cat/esdeveniment/sangarra-amb-projecte-astrolabi/
LOCATION:Llibreria Strogoff\, C/ Can Xic Corder\, 2\, la Garriga\, Barcelona\, 08530
CATEGORIES:Sangarres
ATTACH;FMTTYPE=image/jpeg:https://strogoff.cat/wp-content/uploads/2024/07/Guillem-Plana.jpg
ORGANIZER;CN="Llibreria Strogoff":MAILTO:jordi@strogoff.cat
END:VEVENT
BEGIN:VEVENT
DTSTART;TZID=UTC:20240921T180000
DTEND;TZID=UTC:20240921T190000
DTSTAMP:20260420T083342
CREATED:20240729T104444Z
LAST-MODIFIED:20240930T091055Z
UID:656-1726941600-1726945200@strogoff.cat
SUMMARY:Inauguració CLUBS LECTORS amb la companyia de teatre PEA GREEN BOAT
DESCRIPTION:Comencem el curs dels Clubs Lectors de La Strogoff i us convidem a tots i totes a la inauguració!
URL:https://strogoff.cat/esdeveniment/inauguracio-clubs-lectors-amb-la-companyia-de-teatre-pea-green-boat/
LOCATION:Passeig dels Til·lers\, Passeig dels Til·lers\, la Garriga\, Barcelona\, 08530
CATEGORIES:Clubs de lectura
ATTACH;FMTTYPE=image/webp:https://strogoff.cat/wp-content/uploads/2024/07/TEATRE_BARCELONA-leruga_voladora_2.webp
ORGANIZER;CN="Llibreria Strogoff":MAILTO:jordi@strogoff.cat
END:VEVENT
BEGIN:VEVENT
DTSTART;TZID=UTC:20240921T193000
DTEND;TZID=UTC:20240921T203000
DTSTAMP:20260420T083342
CREATED:20240729T110653Z
LAST-MODIFIED:20240930T091035Z
UID:661-1726947000-1726950600@strogoff.cat
SUMMARY:Sangarra amb COLLECTIVE TRÍO
DESCRIPTION:COLLECTIVE TRÍO\nUna formació en constant evolució on els seus integrants tenen la màxima llibertat per explorar nous territoris i sonoritats musicals\, on sorpendre’s ells mateixos i al públic.\nAmb un repertori de temes originals i algún standard \nPol Padrós\, trompeta\nJorge Abadias\, guitarra\nOscar Doménech\, batería \nEntrada: 10 € \nEntrada anticipada: 8 €
URL:https://strogoff.cat/esdeveniment/sangarra-amb-collective-trio/
LOCATION:Llibreria Strogoff\, C/ Can Xic Corder\, 2\, la Garriga\, Barcelona\, 08530
CATEGORIES:Sangarres
ATTACH;FMTTYPE=image/jpeg:https://strogoff.cat/wp-content/uploads/2024/07/COLLECTIVE-TRIO_210924.jpg
ORGANIZER;CN="Llibreria Strogoff":MAILTO:jordi@strogoff.cat
END:VEVENT
BEGIN:VEVENT
DTSTART;TZID=UTC:20240928T190000
DTEND;TZID=UTC:20240928T200000
DTSTAMP:20260420T083342
CREATED:20240902T100138Z
LAST-MODIFIED:20240930T103940Z
UID:677-1727550000-1727553600@strogoff.cat
SUMMARY:Presentació EL ARTE DE LOS LOCOS de l'escriptora Carme Ayné Alerm
DESCRIPTION:EL ARTE DE LOS LOCOS de l’escriptora Carme Ayné Alerm \n 
URL:https://strogoff.cat/esdeveniment/presentacio-el-arte-de-los-locos-de-lescriptora-carme-ayne-alerm/
LOCATION:Llibreria Strogoff\, C/ Can Xic Corder\, 2\, la Garriga\, Barcelona\, 08530
CATEGORIES:Presentacions
ATTACH;FMTTYPE=image/jpeg:https://strogoff.cat/wp-content/uploads/2024/09/El-Arte-de-los-Locos.jpg
ORGANIZER;CN="Llibreria Strogoff":MAILTO:jordi@strogoff.cat
END:VEVENT
END:VCALENDAR